BEGIN:VCALENDAR
VERSION:2.0
PRODID:-//Goring Heath Parish Council//Meeting Calendar//EN
CALSCALE:GREGORIAN
METHOD:PUBLISH
BEGIN:VEVENT
UID:73479-20260512@goringheathparishcouncil.gov.uk
DTSTAMP:20260421T142118Z
DTSTART;VALUE=DATE:20260512
DTEND;VALUE=DATE:20260513
SUMMARY:Council Meeting 12 May 2026
DESCRIPTION:Full Council Meeting\nView details: https://goringheathparishcouncil.gov.uk/meetings/council-meeting-12-may/
URL:https://goringheathparishcouncil.gov.uk/meetings/council-meeting-12-may/
END:VEVENT
END:VCALENDAR
