BEGIN:VCALENDAR
VERSION:2.0
PRODID:-//Goring Heath Parish Council//Meeting Calendar//EN
CALSCALE:GREGORIAN
METHOD:PUBLISH
BEGIN:VEVENT
UID:71032-20250311@goringheathparishcouncil.gov.uk
DTSTAMP:20260420T121722Z
DTSTART;VALUE=DATE:20250311
DTEND;VALUE=DATE:20250312
SUMMARY:Council Meeting March 11th 2025
DESCRIPTION:Full Council Meeting\nView details: https://goringheathparishcouncil.gov.uk/meetings/council-meeting-march-11th-2025/
URL:https://goringheathparishcouncil.gov.uk/meetings/council-meeting-march-11th-2025/
END:VEVENT
END:VCALENDAR
