BEGIN:VCALENDAR
VERSION:2.0
PRODID:-//Goring Heath Parish Council//Meeting Calendar//EN
CALSCALE:GREGORIAN
METHOD:PUBLISH
BEGIN:VEVENT
UID:70938-20210511@goringheathparishcouncil.gov.uk
DTSTAMP:20260420T083907Z
DTSTART;VALUE=DATE:20210511
DTEND;VALUE=DATE:20210512
SUMMARY:Council Meeting May 11th 2021
DESCRIPTION:Full Council Meeting\nView details: https://goringheathparishcouncil.gov.uk/meetings/council-meeting-may-11th-2021/
URL:https://goringheathparishcouncil.gov.uk/meetings/council-meeting-may-11th-2021/
END:VEVENT
END:VCALENDAR
