BEGIN:VCALENDAR
VERSION:2.0
PRODID:-//Goring Heath Parish Council//Meeting Calendar//EN
CALSCALE:GREGORIAN
METHOD:PUBLISH
BEGIN:VEVENT
UID:70901-20220614@goringheathparishcouncil.gov.uk
DTSTAMP:20260420T082737Z
DTSTART;VALUE=DATE:20220614
DTEND;VALUE=DATE:20220615
SUMMARY:Council Meeting June 14th 2022
DESCRIPTION:Full Council Meeting\nView details: https://goringheathparishcouncil.gov.uk/meetings/council-meeting-june-14th-2022/
URL:https://goringheathparishcouncil.gov.uk/meetings/council-meeting-june-14th-2022/
END:VEVENT
END:VCALENDAR
