BEGIN:VCALENDAR
VERSION:2.0
PRODID:-//Goring Heath Parish Council//Meeting Calendar//EN
CALSCALE:GREGORIAN
METHOD:PUBLISH
BEGIN:VEVENT
UID:70898-20220510@goringheathparishcouncil.gov.uk
DTSTAMP:20260420T083936Z
DTSTART;VALUE=DATE:20220510
DTEND;VALUE=DATE:20220511
SUMMARY:Council Meeting May 10th 2022
DESCRIPTION:Full Council Meeting\nView details: https://goringheathparishcouncil.gov.uk/meetings/council-meeting-may-10th-2022/
URL:https://goringheathparishcouncil.gov.uk/meetings/council-meeting-may-10th-2022/
END:VEVENT
END:VCALENDAR
