BEGIN:VCALENDAR
VERSION:2.0
PRODID:-//Goring Heath Parish Council//Meeting Calendar//EN
CALSCALE:GREGORIAN
METHOD:PUBLISH
BEGIN:VEVENT
UID:70889-20220208@goringheathparishcouncil.gov.uk
DTSTAMP:20260422T081718Z
DTSTART;VALUE=DATE:20220208
DTEND;VALUE=DATE:20220209
SUMMARY:Council Meeting February 8th 2022
DESCRIPTION:Full Council Meeting\nView details: https://goringheathparishcouncil.gov.uk/meetings/council-meeting-february-8th-2022/
URL:https://goringheathparishcouncil.gov.uk/meetings/council-meeting-february-8th-2022/
END:VEVENT
END:VCALENDAR
