BEGIN:VCALENDAR
VERSION:2.0
PRODID:-//Goring Heath Parish Council//Meeting Calendar//EN
CALSCALE:GREGORIAN
METHOD:PUBLISH
BEGIN:VEVENT
UID:70874-20230411@goringheathparishcouncil.gov.uk
DTSTAMP:20260420T083810Z
DTSTART;VALUE=DATE:20230411
DTEND;VALUE=DATE:20230412
SUMMARY:Council Meeting April 11th 2023
DESCRIPTION:Full Council Meeting\nView details: https://goringheathparishcouncil.gov.uk/meetings/council-meeting-april-11th-2023/
URL:https://goringheathparishcouncil.gov.uk/meetings/council-meeting-april-11th-2023/
END:VEVENT
END:VCALENDAR
