BEGIN:VCALENDAR
VERSION:2.0
PRODID:-//Goring Heath Parish Council//Meeting Calendar//EN
CALSCALE:GREGORIAN
METHOD:PUBLISH
BEGIN:VEVENT
UID:70859-20231010@goringheathparishcouncil.gov.uk
DTSTAMP:20260420T083649Z
DTSTART;VALUE=DATE:20231010
DTEND;VALUE=DATE:20231011
SUMMARY:Council Meeting October 10th 2023
DESCRIPTION:Full Council Meeting\nView details: https://goringheathparishcouncil.gov.uk/meetings/council-meeting-october-10th-2023/
URL:https://goringheathparishcouncil.gov.uk/meetings/council-meeting-october-10th-2023/
END:VEVENT
END:VCALENDAR
