BEGIN:VCALENDAR
VERSION:2.0
PRODID:-//Goring Heath Parish Council//Meeting Calendar//EN
CALSCALE:GREGORIAN
METHOD:PUBLISH
BEGIN:VEVENT
UID:70811-20240409@goringheathparishcouncil.gov.uk
DTSTAMP:20260420T083359Z
DTSTART;VALUE=DATE:20240409
DTEND;VALUE=DATE:20240410
SUMMARY:Council Meeting April 9th 2024
DESCRIPTION:Full Council Meeting\nView details: https://goringheathparishcouncil.gov.uk/meetings/council-meeting-april-9th-2024/
URL:https://goringheathparishcouncil.gov.uk/meetings/council-meeting-april-9th-2024/
END:VEVENT
END:VCALENDAR
